BEGIN:VCALENDAR
VERSION:2.0
PRODID:-//Mattishall Parish Council//Meeting Calendar//EN
CALSCALE:GREGORIAN
METHOD:PUBLISH
BEGIN:VEVENT
UID:70473-20200101@mattishallparish.gov.uk
DTSTAMP:20260420T153222Z
DTSTART;VALUE=DATE:20200101
DTEND;VALUE=DATE:20200102
SUMMARY:Barlow Charity Meetings &#8211\\; 2020-2024
DESCRIPTION:Barlow Charity Meeting\nView details: https://mattishallparish.gov.uk/meetings/barlow-charity-meetings-2020-2023/
URL:https://mattishallparish.gov.uk/meetings/barlow-charity-meetings-2020-2023/
END:VEVENT
END:VCALENDAR
