BEGIN:VCALENDAR
VERSION:2.0
PRODID:-//Mattishall Parish Council//Meeting Calendar//EN
CALSCALE:GREGORIAN
METHOD:PUBLISH
BEGIN:VEVENT
UID:70529-20230101@mattishallparish.gov.uk
DTSTAMP:20260420T170059Z
DTSTART;VALUE=DATE:20230101
DTEND;VALUE=DATE:20230102
SUMMARY:Annual Meetings &#8211\\; 2023
DESCRIPTION:Annual Meeting\nView details: https://mattishallparish.gov.uk/meetings/annual-meetings-2023/
URL:https://mattishallparish.gov.uk/meetings/annual-meetings-2023/
END:VEVENT
END:VCALENDAR
