BEGIN:VCALENDAR
VERSION:2.0
PRODID:-//Mattishall Parish Council//Meeting Calendar//EN
CALSCALE:GREGORIAN
METHOD:PUBLISH
BEGIN:VEVENT
UID:70751-20240205@mattishallparish.gov.uk
DTSTAMP:20260420T172359Z
DTSTART;VALUE=DATE:20240205
DTEND;VALUE=DATE:20240206
SUMMARY:Council Meeting &#8211\\; 5th February 2024
DESCRIPTION:Full Council Meeting\nView details: https://mattishallparish.gov.uk/meetings/council-meeting-5th-february-2024/
URL:https://mattishallparish.gov.uk/meetings/council-meeting-5th-february-2024/
END:VEVENT
END:VCALENDAR
