BEGIN:VCALENDAR
VERSION:2.0
PRODID:-//Mattishall Parish Council//Meeting Calendar//EN
CALSCALE:GREGORIAN
METHOD:PUBLISH
BEGIN:VEVENT
UID:70757-20240422@mattishallparish.gov.uk
DTSTAMP:20260420T151456Z
DTSTART;VALUE=DATE:20240422
DTEND;VALUE=DATE:20240423
SUMMARY:Annual Parish Gathering &#8211\\; 22nd April 2024
DESCRIPTION:Annual Meeting\nView details: https://mattishallparish.gov.uk/meetings/annual-parish-gathering-22nd-april-2024/
URL:https://mattishallparish.gov.uk/meetings/annual-parish-gathering-22nd-april-2024/
END:VEVENT
END:VCALENDAR
