BEGIN:VCALENDAR
VERSION:2.0
PRODID:-//Mattishall Parish Council//Meeting Calendar//EN
CALSCALE:GREGORIAN
METHOD:PUBLISH
BEGIN:VEVENT
UID:70758-20240507@mattishallparish.gov.uk
DTSTAMP:20260420T151615Z
DTSTART;VALUE=DATE:20240507
DTEND;VALUE=DATE:20240508
SUMMARY:Annual Parish Council Meeting &#8211\\; 7th May 2024
DESCRIPTION:Annual Meeting\nView details: https://mattishallparish.gov.uk/meetings/annual-parish-meeting-7th-may-2024/
URL:https://mattishallparish.gov.uk/meetings/annual-parish-meeting-7th-may-2024/
END:VEVENT
END:VCALENDAR
