BEGIN:VCALENDAR
VERSION:2.0
PRODID:-//Mattishall Parish Council//Meeting Calendar//EN
CALSCALE:GREGORIAN
METHOD:PUBLISH
BEGIN:VEVENT
UID:70759-20240603@mattishallparish.gov.uk
DTSTAMP:20260420T205238Z
DTSTART;VALUE=DATE:20240603
DTEND;VALUE=DATE:20240604
SUMMARY:Council Meeting &#8211\\; 3rd June 2024
DESCRIPTION:Full Council Meeting\nView details: https://mattishallparish.gov.uk/meetings/council-meeting-3rd-june-2024/
URL:https://mattishallparish.gov.uk/meetings/council-meeting-3rd-june-2024/
END:VEVENT
END:VCALENDAR
