BEGIN:VCALENDAR
VERSION:2.0
PRODID:-//Mattishall Parish Council//Meeting Calendar//EN
CALSCALE:GREGORIAN
METHOD:PUBLISH
BEGIN:VEVENT
UID:70930-20240601@mattishallparish.gov.uk
DTSTAMP:20260420T205201Z
DTSTART;VALUE=DATE:20240601
DTEND;VALUE=DATE:20240602
SUMMARY:Council Meeting &#8211\\; 1 July 2024
DESCRIPTION:Full Council Meeting\nView details: https://mattishallparish.gov.uk/meetings/council-meeting-1-july-2024/
URL:https://mattishallparish.gov.uk/meetings/council-meeting-1-july-2024/
END:VEVENT
END:VCALENDAR
