BEGIN:VCALENDAR
VERSION:2.0
PRODID:-//Mattishall Parish Council//Meeting Calendar//EN
CALSCALE:GREGORIAN
METHOD:PUBLISH
BEGIN:VEVENT
UID:71114-20241024@mattishallparish.gov.uk
DTSTAMP:20260420T223724Z
DTSTART;VALUE=DATE:20241024
DTEND;VALUE=DATE:20241025
SUMMARY:Council Meeting extraordinary &#8211\\; 24th October 2024
DESCRIPTION:Full Council Meeting\nView details: https://mattishallparish.gov.uk/meetings/council-meeting-extraordinary-24th-october/
URL:https://mattishallparish.gov.uk/meetings/council-meeting-extraordinary-24th-october/
END:VEVENT
END:VCALENDAR
