BEGIN:VCALENDAR
VERSION:2.0
PRODID:-//Mattishall Parish Council//Meeting Calendar//EN
CALSCALE:GREGORIAN
METHOD:PUBLISH
BEGIN:VEVENT
UID:71125-20241030@mattishallparish.gov.uk
DTSTAMP:20260420T224818Z
DTSTART;VALUE=DATE:20241030
DTEND;VALUE=DATE:20241031
SUMMARY:Committee Meeting for the Wild and Woodland &#8211\\; 30 October 2024
DESCRIPTION:Full Council Meeting\nView details: https://mattishallparish.gov.uk/meetings/committee-meeting-for-the-wild-and-woodland/
URL:https://mattishallparish.gov.uk/meetings/committee-meeting-for-the-wild-and-woodland/
END:VEVENT
END:VCALENDAR
