BEGIN:VCALENDAR
VERSION:2.0
PRODID:-//Mattishall Parish Council//Meeting Calendar//EN
CALSCALE:GREGORIAN
METHOD:PUBLISH
BEGIN:VEVENT
UID:71280-20250211@mattishallparish.gov.uk
DTSTAMP:20260420T225444Z
DTSTART;VALUE=DATE:20250211
DTEND;VALUE=DATE:20250212
SUMMARY:Committee Meeting for the Wild Wood &#8211\\; 11 February 2025
DESCRIPTION:Full Council Meeting\nView details: https://mattishallparish.gov.uk/meetings/committee-meeting-for-the-wild-wood-11-february-2025/
URL:https://mattishallparish.gov.uk/meetings/committee-meeting-for-the-wild-wood-11-february-2025/
END:VEVENT
END:VCALENDAR
