BEGIN:VCALENDAR
VERSION:2.0
PRODID:-//Mattishall Parish Council//Meeting Calendar//EN
CALSCALE:GREGORIAN
METHOD:PUBLISH
BEGIN:VEVENT
UID:71283-20250303@mattishallparish.gov.uk
DTSTAMP:20260420T205121Z
DTSTART;VALUE=DATE:20250303
DTEND;VALUE=DATE:20250304
SUMMARY:Council Meeting &#8211\\; 3 March 2025
DESCRIPTION:Full Council Meeting\nView details: https://mattishallparish.gov.uk/meetings/council-meeting-3-march-2025/
URL:https://mattishallparish.gov.uk/meetings/council-meeting-3-march-2025/
END:VEVENT
END:VCALENDAR
