BEGIN:VCALENDAR
VERSION:2.0
PRODID:-//Mattishall Parish Council//Meeting Calendar//EN
CALSCALE:GREGORIAN
METHOD:PUBLISH
BEGIN:VEVENT
UID:71349-20250407@mattishallparish.gov.uk
DTSTAMP:20260420T205238Z
DTSTART;VALUE=DATE:20250407
DTEND;VALUE=DATE:20250408
SUMMARY:Council Meeting &#8211\\; 7 April 2025
DESCRIPTION:Full Council Meeting\nView details: https://mattishallparish.gov.uk/meetings/council-meeting-7-april-2025/
URL:https://mattishallparish.gov.uk/meetings/council-meeting-7-april-2025/
END:VEVENT
END:VCALENDAR
