BEGIN:VCALENDAR
VERSION:2.0
PRODID:-//Mattishall Parish Council//Meeting Calendar//EN
CALSCALE:GREGORIAN
METHOD:PUBLISH
BEGIN:VEVENT
UID:71359-20250428@mattishallparish.gov.uk
DTSTAMP:20260420T151131Z
DTSTART;VALUE=DATE:20250428
DTEND;VALUE=DATE:20250429
SUMMARY:Annual Parish Gathering &#8211\\; 28th April 2025
DESCRIPTION:Annual Meeting\nView details: https://mattishallparish.gov.uk/meetings/annual-parish-gathering-28th-april-2025/
URL:https://mattishallparish.gov.uk/meetings/annual-parish-gathering-28th-april-2025/
END:VEVENT
END:VCALENDAR
