BEGIN:VCALENDAR
VERSION:2.0
PRODID:-//Mattishall Parish Council//Meeting Calendar//EN
CALSCALE:GREGORIAN
METHOD:PUBLISH
BEGIN:VEVENT
UID:71393-20250707@mattishallparish.gov.uk
DTSTAMP:20260420T192500Z
DTSTART;VALUE=DATE:20250707
DTEND;VALUE=DATE:20250708
SUMMARY:Council Meeting &#8211\\; 7 July 2025
DESCRIPTION:Full Council Meeting\nView details: https://mattishallparish.gov.uk/meetings/council-meeting-7-july-2025/
URL:https://mattishallparish.gov.uk/meetings/council-meeting-7-july-2025/
END:VEVENT
END:VCALENDAR
