BEGIN:VCALENDAR
VERSION:2.0
PRODID:-//Mattishall Parish Council//Meeting Calendar//EN
CALSCALE:GREGORIAN
METHOD:PUBLISH
BEGIN:VEVENT
UID:71394-20250804@mattishallparish.gov.uk
DTSTAMP:20260420T192453Z
DTSTART;VALUE=DATE:20250804
DTEND;VALUE=DATE:20250805
SUMMARY:Council Meeting &#8211\\; 4 August 2025
DESCRIPTION:Full Council Meeting\nView details: https://mattishallparish.gov.uk/meetings/council-meeting-4-august-2025/
URL:https://mattishallparish.gov.uk/meetings/council-meeting-4-august-2025/
END:VEVENT
END:VCALENDAR
