BEGIN:VCALENDAR
VERSION:2.0
PRODID:-//Mattishall Parish Council//Meeting Calendar//EN
CALSCALE:GREGORIAN
METHOD:PUBLISH
BEGIN:VEVENT
UID:71395-20250901@mattishallparish.gov.uk
DTSTAMP:20260420T172547Z
DTSTART;VALUE=DATE:20250901
DTEND;VALUE=DATE:20250902
SUMMARY:Council Meeting &#8211\\; 1 September 2025
DESCRIPTION:Full Council Meeting\nView details: https://mattishallparish.gov.uk/meetings/council-meeting-1-september-2025/
URL:https://mattishallparish.gov.uk/meetings/council-meeting-1-september-2025/
END:VEVENT
END:VCALENDAR
