BEGIN:VCALENDAR
VERSION:2.0
PRODID:-//Mattishall Parish Council//Meeting Calendar//EN
CALSCALE:GREGORIAN
METHOD:PUBLISH
BEGIN:VEVENT
UID:71396-20251006@mattishallparish.gov.uk
DTSTAMP:20260420T172547Z
DTSTART;VALUE=DATE:20251006
DTEND;VALUE=DATE:20251007
SUMMARY:Council Meeting &#8211\\; 6 October 2025
DESCRIPTION:Full Council Meeting\nView details: https://mattishallparish.gov.uk/meetings/council-meeting-6-october-2025/
URL:https://mattishallparish.gov.uk/meetings/council-meeting-6-october-2025/
END:VEVENT
END:VCALENDAR
