BEGIN:VCALENDAR
VERSION:2.0
PRODID:-//Mattishall Parish Council//Meeting Calendar//EN
CALSCALE:GREGORIAN
METHOD:PUBLISH
BEGIN:VEVENT
UID:71398-20251201@mattishallparish.gov.uk
DTSTAMP:20260420T153221Z
DTSTART;VALUE=DATE:20251201
DTEND;VALUE=DATE:20251202
SUMMARY:Council Meeting &#8211\\; 1 December 2025
DESCRIPTION:Full Council Meeting\nView details: https://mattishallparish.gov.uk/meetings/council-meeting-1-december-2025/
URL:https://mattishallparish.gov.uk/meetings/council-meeting-1-december-2025/
END:VEVENT
END:VCALENDAR
