BEGIN:VCALENDAR
VERSION:2.0
PRODID:-//Mattishall Parish Council//Meeting Calendar//EN
CALSCALE:GREGORIAN
METHOD:PUBLISH
BEGIN:VEVENT
UID:71504-20250919@mattishallparish.gov.uk
DTSTAMP:20260420T172425Z
DTSTART;VALUE=DATE:20250919
DTEND;VALUE=DATE:20250920
SUMMARY:Committee Meeting Wild and Wood &#8211\\; 19 September 2025
DESCRIPTION:Full Council Meeting\nView details: https://mattishallparish.gov.uk/meetings/committee-meeting-wild-and-wood-19-september-2025/
URL:https://mattishallparish.gov.uk/meetings/committee-meeting-wild-and-wood-19-september-2025/
END:VEVENT
END:VCALENDAR
