BEGIN:VCALENDAR
VERSION:2.0
PRODID:-//Mattishall Parish Council//Meeting Calendar//EN
CALSCALE:GREGORIAN
METHOD:PUBLISH
BEGIN:VEVENT
UID:71553-20251124@mattishallparish.gov.uk
DTSTAMP:20260420T155305Z
DTSTART;VALUE=DATE:20251124
DTEND;VALUE=DATE:20251125
SUMMARY:Extraordinary Meeting &#8211\\; 24 November 2025
DESCRIPTION:Full Council Meeting\nView details: https://mattishallparish.gov.uk/meetings/november-extraordinary-council-meeting/
URL:https://mattishallparish.gov.uk/meetings/november-extraordinary-council-meeting/
END:VEVENT
END:VCALENDAR
