BEGIN:VCALENDAR
VERSION:2.0
PRODID:-//Mattishall Parish Council//Meeting Calendar//EN
CALSCALE:GREGORIAN
METHOD:PUBLISH
BEGIN:VEVENT
UID:71564-20251120@mattishallparish.gov.uk
DTSTAMP:20260420T155428Z
DTSTART;VALUE=DATE:20251120
DTEND;VALUE=DATE:20251121
SUMMARY:Committee Meeting Wild and Wood &#8211\\; 20 November 2025
DESCRIPTION:Full Council Meeting\nView details: https://mattishallparish.gov.uk/meetings/committee-meeting-wild-and-wood-20-november-2025/
URL:https://mattishallparish.gov.uk/meetings/committee-meeting-wild-and-wood-20-november-2025/
END:VEVENT
END:VCALENDAR
