BEGIN:VCALENDAR
VERSION:2.0
PRODID:-//Mattishall Parish Council//Meeting Calendar//EN
CALSCALE:GREGORIAN
METHOD:PUBLISH
BEGIN:VEVENT
UID:71567-20260202@mattishallparish.gov.uk
DTSTAMP:20260420T134318Z
DTSTART;VALUE=DATE:20260202
DTEND;VALUE=DATE:20260203
SUMMARY:Council Meeting &#8211\\; 2 February 2026
DESCRIPTION:Full Council Meeting\nView details: https://mattishallparish.gov.uk/meetings/council-meeting-2-february-2026/
URL:https://mattishallparish.gov.uk/meetings/council-meeting-2-february-2026/
END:VEVENT
END:VCALENDAR
