BEGIN:VCALENDAR
VERSION:2.0
PRODID:-//Mattishall Parish Council//Meeting Calendar//EN
CALSCALE:GREGORIAN
METHOD:PUBLISH
BEGIN:VEVENT
UID:71568-20260302@mattishallparish.gov.uk
DTSTAMP:20260420T134216Z
DTSTART;VALUE=DATE:20260302
DTEND;VALUE=DATE:20260303
SUMMARY:Council Meeting &#8211\\; 2 March 2026
DESCRIPTION:Full Council Meeting\nView details: https://mattishallparish.gov.uk/meetings/council-meeting-2-march-2026/
URL:https://mattishallparish.gov.uk/meetings/council-meeting-2-march-2026/
END:VEVENT
END:VCALENDAR
