BEGIN:VCALENDAR
VERSION:2.0
PRODID:-//Mattishall Parish Council//Meeting Calendar//EN
CALSCALE:GREGORIAN
METHOD:PUBLISH
BEGIN:VEVENT
UID:71569-20260420@mattishallparish.gov.uk
DTSTAMP:20260420T114455Z
DTSTART;VALUE=DATE:20260420
DTEND;VALUE=DATE:20260421
SUMMARY:Council Meeting &#8211\\; 20 April 2026
DESCRIPTION:Full Council Meeting\nView details: https://mattishallparish.gov.uk/meetings/council-meeting-20-april-2026/
URL:https://mattishallparish.gov.uk/meetings/council-meeting-20-april-2026/
END:VEVENT
END:VCALENDAR
