BEGIN:VCALENDAR
VERSION:2.0
PRODID:-//Mattishall Parish Council//Meeting Calendar//EN
CALSCALE:GREGORIAN
METHOD:PUBLISH
BEGIN:VEVENT
UID:71570-20260427@mattishallparish.gov.uk
DTSTAMP:20260420T120141Z
DTSTART;VALUE=DATE:20260427
DTEND;VALUE=DATE:20260428
SUMMARY:Annual Parish Gathering &#8211\\; 27 April 2026
DESCRIPTION:Annual Meeting\nView details: https://mattishallparish.gov.uk/meetings/annual-parish-gathering-27-april-2026/
URL:https://mattishallparish.gov.uk/meetings/annual-parish-gathering-27-april-2026/
END:VEVENT
END:VCALENDAR
