BEGIN:VCALENDAR
VERSION:2.0
PRODID:-//Mattishall Parish Council//Meeting Calendar//EN
CALSCALE:GREGORIAN
METHOD:PUBLISH
BEGIN:VEVENT
UID:71571-20260511@mattishallparish.gov.uk
DTSTAMP:20260420T132133Z
DTSTART;VALUE=DATE:20260511
DTEND;VALUE=DATE:20260512
SUMMARY:Annual Council Meeting &#8211\\; 11 May 2026
DESCRIPTION:Annual Meeting\nView details: https://mattishallparish.gov.uk/meetings/annual-council-meeting-11-may-2026/
URL:https://mattishallparish.gov.uk/meetings/annual-council-meeting-11-may-2026/
END:VEVENT
END:VCALENDAR
