BEGIN:VCALENDAR
VERSION:2.0
PRODID:-//Mattishall Parish Council//Meeting Calendar//EN
CALSCALE:GREGORIAN
METHOD:PUBLISH
BEGIN:VEVENT
UID:71572-20260601@mattishallparish.gov.uk
DTSTAMP:20260420T132133Z
DTSTART;VALUE=DATE:20260601
DTEND;VALUE=DATE:20260602
SUMMARY:Council Meeting &#8211\\; 1 June 2026
DESCRIPTION:Full Council Meeting\nView details: https://mattishallparish.gov.uk/meetings/council-meeting-1-june-2026/
URL:https://mattishallparish.gov.uk/meetings/council-meeting-1-june-2026/
END:VEVENT
END:VCALENDAR
