BEGIN:VCALENDAR
VERSION:2.0
PRODID:-//Mattishall Parish Council//Meeting Calendar//EN
CALSCALE:GREGORIAN
METHOD:PUBLISH
BEGIN:VEVENT
UID:71641-20260319@mattishallparish.gov.uk
DTSTAMP:20260420T132051Z
DTSTART;VALUE=DATE:20260319
DTEND;VALUE=DATE:20260320
SUMMARY:Committee meeting Wild and Wood &#8211\\; 19 March 2026
DESCRIPTION:Full Council Meeting\nView details: https://mattishallparish.gov.uk/meetings/committee-meeting-for-the-wild-and-wood-19-march-2026/
URL:https://mattishallparish.gov.uk/meetings/committee-meeting-for-the-wild-and-wood-19-march-2026/
END:VEVENT
END:VCALENDAR
